BEGIN:VCALENDAR
VERSION:2.0
PRODID:-//Chautauqua Visual Arts - ECPv6.10.2//NONSGML v1.0//EN
CALSCALE:GREGORIAN
METHOD:PUBLISH
X-WR-CALNAME:Chautauqua Visual Arts
X-ORIGINAL-URL:https://art.chq.org
X-WR-CALDESC:Events for Chautauqua Visual Arts
REFRESH-INTERVAL;VALUE=DURATION:PT1H
X-Robots-Tag:noindex
X-PUBLISHED-TTL:PT1H
BEGIN:VTIMEZONE
TZID:America/New_York
BEGIN:DAYLIGHT
TZOFFSETFROM:-0500
TZOFFSETTO:-0400
TZNAME:EDT
DTSTART:20200308T070000
END:DAYLIGHT
BEGIN:STANDARD
TZOFFSETFROM:-0400
TZOFFSETTO:-0500
TZNAME:EST
DTSTART:20201101T060000
END:STANDARD
END:VTIMEZONE
BEGIN:VEVENT
DTSTART;TZID=America/New_York:20200721T183000
DTEND;TZID=America/New_York:20200721T203000
DTSTAMP:20260420T070052
CREATED:20200704T023630Z
LAST-MODIFIED:20200801T021456Z
UID:3359-1595356200-1595363400@art.chq.org
SUMMARY:CVA Visiting Artist Lecture Series: Miguel Luciano
DESCRIPTION:Miguel Luciano is a multimedia visual artist whose work explores themes of history\, popular culture\, social justice and migration\, through sculpture\, painting and socially engaged public art projects. Born in San Juan\, Puerto Rico\, he lives and works in New York\, NY.   \nDue to technical difficulties\, this lecture is not available on-demand.
URL:https://art.chq.org/event/cva-visiting-artist-lecture-series-miguel-luciano/
LOCATION:CHQ Assembly: Virtual Porch
ATTACH;FMTTYPE=image/jpeg:https://art.chq.org/wp-content/uploads/2020/06/lecture_Miguel-Luciano.jpg
END:VEVENT
END:VCALENDAR